Workbook

Sheet Table of Contents
A1: Board or Committees | B1: Reappointment | C1: Current | D1: Board Liason | E1: Questions
A2: =AdHoc!A1 -> AdHoc Inmate Housing Committee | B2: =IF(AdHoc!E1="Active", "Active", "Dissolved") -> Active
A3: =AdHoc!A7 -> ADHOC Highway/EOC Building Renovation | B3: =IF(AdHoc!E7="Active", "Active", "Dissolved") -> Active
A4: =AdHoc!A11 -> ADHOC Administrator Hire Committee | B4: =IF(AdHoc!E11="Active", "Active", "Dissolved") -> Dissolved
A5: =AdHoc!A19 -> ADHOC Transit Garage Committee | B5: =IF(AdHoc!E19="Active", "Active", "Dissolved") -> Active
A6: =AdHoc!A24 -> ADHOC PCOM Hire Committee | B6: =IF(AdHoc!E24="Active", "Active", "Dissolved") -> Dissolved
A7: =NWILED!A1 -> NWILED | B7: ? | C7: =NWILED!F2 -> Susan Jacobs | D7: =NWILED!L2 -> Board Affiliate | E7: When does expire
A8: ='January 708'!A1 -> Community Mental Health Boarrd - 708 7 Members - 4 Year Terms - Jan Appt
A9: ='January RC&D'!A1 -> Blackhawk Hills Regional Council 2 Year Term 1 Appt, 1 Board Liason (Jan Appt) | E9: what is RC&D mean
A10: ='Feb Jo Carr Ent.Zone'!A1 -> JO-CARROLL ENTERPRISE ZONE BOARD 3 year Term 3 Members from each County 1 Board Liason Feb Appt | E10: is there a Whiteside Carroll Enterprise zone Board we are active in?
A11: ='Feb Farmland Assess.'!A1 -> COUNTY FARMLAND ASSESSMENT LOCAL REVIEW COMMITTEE Term as needed Feb Appt Superivsor of Assessments and Board of Review Chairman
A12: ='Feb HousingAuth.'!A1 -> CARROLL COUNTY HOUSING AUTHORITY 5 year term 5 Members Feb appt
A13: ='March FTZ'!A1 -> JO-CARROLL FOREIGN TRADE ZONE 3 Year Terms 3 members from each county Staggered Terms March appt
A14: ='April HotelMotel'!A1 -> HOTEL/MOTEL TAX BOARD 2 year Terms 5 members April Appt
A15: ='April LRA'!A1 -> LRA 3 Year Terms 4 Members from each County April Appt
A16: ='April Chad Fire'!A1 -> CHADWICK FIRE TRUSTEE 3 year terms 3 members April Appt
A17: ='April Lanark Fire'!A1 -> LANARK FIRE TRUSTEE 3 year terms 3 members April Appt.
A18: ='April Mill Fire'!A1 -> MILLEDGEVILLE FIRE TRUSTEE 3 year terms 3 members 1 Whiteside April Appt
A19: ='April MTC Fire'!A1 -> MT. CARROLL FIRE TRUSTEE 3 year terms 3 members April Appt
A20: ='April Sav Fire'!A1 -> SAVANNA FIRE TRUSTEE 3 yer terms 3 members April Appt
A21: ='April Shan Fire'!A1 -> SHANNON FIRE TRUSTEE 3 year terms 3 members 1 Stephenson Co. April Appt
A22: ='April Thom Fire'!A1 -> THOMSON FIRE TRUSTEES 3 year terms 3 members April Appt
A23: ='April Hanover Fire'!A1 -> HANOVER FIRE TRUSTEES April Appt
A24: ='May Port Dist'!A1 -> UPPER MISS. INTER. PORT DISTRICT 3 year terms, 2 from Carroll, 2 from JoDaviess and 1 by Governor
A25: ='May Hwy Supt'!A1 -> HIGHWAY SUPERINTENDENT 6 Year term
A26: ='May JoCar Solid Waste'!A1 -> JO/CARROLL SOLID WASTE AGENCY 3 year terms 4 directors from each County May Appt
A27: ='June SOA'!A1 -> SUPERVISOR OF ASSESSMENTS 4 year term
A28: ='June Board of Review'!A1 -> BOARD OF REVIEW 3 year terms 3 members April Appt
A29: ='June Health Dept'!A1 -> HEALTH DEPARTMENT 3 year terms 8 Members June Appt
A30: ='July QCREDA'!A1 -> QCREDA
A31: ='Sept York Drain.'!A1 -> SAVANNA YORK DRAINAGE DISTRICT 3 year terms 3 members Sept Appt
A32: ='Oct Airport Auth.'!A1 -> TRI-TOWNSHIP AIRPORT AUTHORITY 5 year terms 5 Members Oct Appt
A33: ='Nov. Brd of Appeals'!A1 -> ZONING BOARD OF APPEALS 5 year terms 5 Members Nov Appt
A34: ='Dec Tri Co Opp Counc.'!A1 -> TRI-COUNTIES OPPORTUNITES COUNCIL 3 year terms Dec Appt
A35: ='Dec 911'!A1 -> 911 BOARD 3 Year Term 7 Members Staggered by District, Dist 1 ; Dist 2 ; Dist 3, Board Liason, optional Resident Member; Sheriff- A Standing Member - Dec Appt
A36: ='Dec. SEnior Services'!A1 -> SENIOR SERVICES - COUNTY BOARD LIAISON
A37: =BEST!A1 -> BEST

Sheet AdHoc
A1: AdHoc Inmate Housing Committee | E1: Active
A2: 2023- | B2: ** | C2: William Iske, Chairman | G2: Book 56 | H2: Page 57
A3: 2023- | B3: ** | C3: Chris Flikkema | G3: Book 56 | H3: Page 57
A4: 2023- | B4: ** | C4: Julie Bickelhaupt | G4: Book 56 | H4: Page 57
A5: 2023- | B5: ** | C5: James Rieck | G5: Book 56 | H5: Page 57
A7: ADHOC Highway/EOC Building Renovation | E7: Active
A8: 45292 | C8: Chris Flikkema | E8: Board Liaison | G8: Book 58 | H8: Page 273
A11: ADHOC Administrator Hire Committee | E11: Dissolved
A12: 45292 | C12: Julie Bickelhaupt | E12: Chr | G12: Book 58 | H12: Page 272
C13: William Iske | E13: Brd Member | G13: Book 58 | H13: Page 272
C14: David Soldat | E14: Brd Member | G14: Book 58 | H14: Page 272
C15: Lydia Hutchcraft | E15: Treasurer | G15: Book 58 | H15: Page 272
C16: Ryan Kloepping | E16: Sheriff | G16: Book 58 | H16: Page 272
C17: Amy Buss | E17: Co Clerk | G17: Book 58 | H17: Page 272
A19: ADHOC Transit Garage Committee | E19: Active
A20: 45323 | C20: Chris Flikkema | E20: Chr | G20: Book 58 | H20: Page 357
C21: Ron Preston | G21: Book 58 | H21: Page 357
C22: Susan Jacobs | G22: Book 58 | H22: Page 357
A24: ADHOC PCOM Hire Committee | E24: dissolved
A25: 45323 | C25: Susan Jacobs | E25: Chr | G25: Book 58 | H25: Page 357
C26: Deb Connor | G26: Book 58 | H26: Page 357
C27: Dave Soldat | G27: Book 58 | H27: Page 357

Sheet NWILED
A1: NWILED | B1: Initial Term | C1: Term Start | D1: Term End | E1: Active/Inactive | F1: Name | G1: Street | H1: City | I1: Reappoint or replace | J1: Book Rec | K1: Page Rec | L1: Note
B2: 2022-2026 | C2: 44562 | D2: 46357 | E2: =IF(D2>=TODAY(),"Active","Inactive") -> Active | F2: Susan Jacobs | I2: County Board Liason | J2: Book 58 | K2: Page 273 | L2: Board Affiliate

Sheet January 708
A1: Community Mental Health Boarrd - 708 7 Members - 4 Year Terms - Jan Appt | B1: Initial Term | C1: Term Start | D1: Term End | E1: Active/Inactive | F1: Name | G1: Street | H1: City | I1: Reappoint or replace | J1: ph # | K1: email | L1: Book Rec | M1: Page Rec | N1: Note
B2: 2002- 2006 | F2: Pat Caldwell | I2: Reappoint | L2: Book 19 | M2: Page 247
B3: 2002- 2006 | F3: Patti Kloepping | L3: Book 20 | M3: Page 325D
B4: 2002 | F4: Helen Latouche | I4: Board Liaison | L4: Book 20 | M4: Page 325D
B5: 2003- 2007 | F5: Carl Zager | L5: Book 20 | M5: Page 351
B6: 2003- 2007 | F6: Betty Harms | L6: Book 20 | M6: Page 351
B7: 2003- 2007 | F7: Kathy Kennedy | I7: Replacing Sandra Kopecky | L7: Book 23 | M7: Page 3
B8: 2004- 2008 | F8: Janice Wilt | L8: Book 23 | M8: Page 298
B9: 2004- 2008 | F9: Rubye Hill | L9: Book 23 | M9: Page 298
B10: 2004- 2008 | F10: Arlie Dahlman | L10: Book 23 | M10: Page 395
B11: 2006- 2010 | F11: Pat Caldwell | L11: Book 25 | M11: Page 3
B12: 2006- 2010 | F12: Patti Kloepping | L12: Book 25 | M12: Page 3
B13: 2007- 2011 | F13: Carl Zager | L13: Book 26 | M13: page 306
B14: 2007- 2011 | F14: Betty Harms | L14: Book 26 | M14: Page 306
B15: 2007- 2011 | F15: Kathy Kennedy | L15: Book 26 | M15: page 306
B16: 2008- 2012 | F16: Arlie Dahlman | L16: Book 28 | M16: Page 108
B17: 2008- | F17: Stan Hewitson | I17: replacing LaTouche | L17: Book 28 | M17: Page 108
B18: -2012 | F18: Ed Knirlberger | L18: Book 30 | M18: Page 146
B19: 2010- 2014 | F19: Pat Caldwell | I19: reappointment | L19: Book 30 | M19: Page 247
B20: 2011-2014 | F20: Jim Anderson | L20: Book 30 | M20: Page 247
B21: 2011-2015 | F21: Patricia Johnson | I21: Replacing Betty Harms | L21: Book 32 | M21: Page 6
B22: 2011-2015 | F22: Kathy Kennedy | L22: Book 32 | M22: Page 133
B23: 2011- 2015 | F23: Cheri Piper | L23: Book 32 | M23: Page 177
B24: 2012- 2016 | F24: Ed Knirlberger | I24: Reappointment | L24: Book 34 | M24: Page 67
B25: 2012- 2016 | F25: Arlie Dahlman | I25: Reappointment | L25: Book 34 | M25: Page 67
B26: 2012- 2016 | F26: JoAnn Palmer | I26: Replacing Ed Knirlberger | L26: Book 35 | M26: Page 251
B27: -2014 | F27: Amy Snyder | I27: Replacing Pat Caldwell | L27: Book 36 | M27: Page 3
B28: -2016 | F28: Jonathan Meade | I28: Replacing Arlie Dahlman | L28: Book 36 | M28: Page 3
B29: 2014-2018 | F29: Jim Anderson | I29: Reappointment | L29: Book 38 | M29: Page 237
B30: 2014-2018 | F30: Amy Snyder | I30: Reappointment | L30: Book 38 | M30: Page 237
B31: 2019 | F31: Susan Kennedy | I31: Replacing Kathy Kennedy | L31: Book 38 | M31: Page 237
B32: 2015-2019 | F32: Lori Whitemarsh | I32: Replacing Cheri Piper | L32: Book 38 | M32: Page 280
B33: 2016-2020 | F33: JoAnn Palmer | I33: Reappointment | L33: Book 39 | M33: Page 395
B34: 2016-2020 | F34: Jonathan Meade | I34: Reappointment | L34: Book 39 | M34: Page 395
B35: -2018 | F35: Mary Ann Hutchison | I35: Replacing Amy Snyder | L35: Book 40 | M35: Page 36
B36: 2017-2021 | F36: John Gloor | I36: Replacing Patricia Johnson | L36: Book 42 | M36: Page 373
B37: 2018-2021 | F37: Jim Anderson | I37: Reappointment | L37: Book 44 | M37: Page 337
B38: 2018-2021 | F38: Mary Ann Hutchison | I38: Reappointment | L38: Book 44 | M38: Page 337
B39: -2019 | F39: Sherry Morel | I39: Replacing Susan Kennedy | L39: Book 45 | M39: Page 74
B40: 2019-2023 | F40: Marcie Arno | I40: Reaplcing Lori Whitemarsh | L40: Book 47 | M40: Page 3
...

Sheet January RC&D
A1: Blackhawk Hills Regional Council 2 Year Term 1 Appt, 1 Board Liason (Jan Appt) | B1: Initial Term | C1: Term Start | D1: Term End | E1: Active/Inactive | F1: Name | G1: Street | H1: City | I1: PH# | J1: Email | K1: Reappoint or replace | L1: Book Rec | M1: Page Rec | N1: Note
B2: 2005- 2007 | C2: 38384 | D2: 39114 | E2: =IF(D2>=TODAY(),"Active","Inactive") -> Inactive | F2: Cathy Brunner | L2: Book 26 | M2: Page 41
E3: =IF(D3>=TODAY(),"Active","Inactive") -> Inactive
B4: 2009- 2011 | C4: 39845 | D4: 40575 | E4: =IF(D4>=TODAY(),"Active","Inactive") -> Inactive | F4: Edie Block | K4: Reappointment | L4: Book 29 | M4: page 123
B5: 2011- 2013 | C5: 40575 | D5: 41306 | E5: =IF(D5>=TODAY(),"Active","Inactive") -> Inactive | F5: Kevin Reibel | K5: Replacing Edie Block | L5: Book 32 | M5: Page 82
B6: 2013-2015 | C6: 41306 | D6: 42036 | E6: =IF(D6>=TODAY(),"Active","Inactive") -> Inactive | F6: Darrell Stitzel | L6: Book 35 | M6: Page 304
B7: 2014-2016 | C7: 41671 | D7: 42401 | E7: =IF(D7>=TODAY(),"Active","Inactive") -> Inactive | F7: Darrell Stitzel | K7: Reappointment | L7: Book 37 | M7: Page 62
B8: 2016-2018 | C8: 42401 | D8: 43132 | E8: =IF(D8>=TODAY(),"Active","Inactive") -> Inactive | F8: Darrell Stitzel | K8: Reappointment | L8: Book 39 | M8: Page 395
B9: 2017-2019 | C9: 42767 | D9: 43497 | E9: =IF(D9>=TODAY(),"Active","Inactive") -> Inactive | F9: Dennis Bowman | K9: replacing John Huggins
B10: 2018-2020 | C10: 43132 | D10: 43862 | E10: =IF(D10>=TODAY(),"Active","Inactive") -> Inactive | F10: Darrell Stitzel | K10: Reappointment | L10: Book 44 | M10: Page 337
B11: 2019-2021 | C11: 43497 | D11: 44228 | E11: =IF(D11>=TODAY(),"Active","Inactive") -> Inactive | F11: Dennis Bowman | K11: Reappointment | L11: Book 47 | M11: Page 3
B12: -2021 | D12: 37288 | E12: =IF(D12>=TODAY(),"Active","Inactive") -> Inactive | F12: Jill Janssen | K12: Replacing Dennis Bowman | L12: Book 48 | M12: Page 63
B13: 2020-2022 | C13: 43862 | D13: 44593 | E13: =IF(D13>=TODAY(),"Active","Inactive") -> Inactive | F13: Darrell Stitzel | K13: Reappointment
B14: 2020-2022 | C14: 43862 | D14: 44593 | E14: =IF(D14>=TODAY(),"Active","Inactive") -> Inactive | F14: Keith Vendermyde | K14: Replacing Darrell Stitzel | L14: Book 50 | M14: Page 350
B15: 2021- | C15: 44228 | E15: =IF(D15>=TODAY(),"Active","Inactive") -> Inactive | F15: Jill Janssen | K15: Reappointment | L15: Book 50 | M15: Page 415
B16: 2022-2024 | C16: 44593 | D16: 45323 | E16: =IF(D16>=TODAY(),"Active","Inactive") -> Inactive | F16: Keith Vandermyde | K16: Reappointment | L16: Book 52 | M16: Page 515 | O16: Julie Bickelhaupt - County Board Liaison | S16: 44910
B17: 2022-2024 | C17: 44593 | D17: 42005 | E17: =IF(D17>=TODAY(),"Active","Inactive") -> Inactive | F17: Julie Bickelhaupt | K17: co board position Appointed Replacing Keith Vandermyde | L17: Book 55 | M17: Page 66
B18: 2023-2025 | C18: 44958 | D18: 45689 | E18: =IF(D18>=TODAY(),"Active","Inactive") -> Inactive | F18: Jill Janssen | J18: jill.janssen@highland.edu | K18: Reappointment | L18: Book 55 | M18: Page 254
B19: 2025-2027 | C19: 45658 | D19: 46419 | E19: =IF(D19>=TODAY(),"Active","Inactive") -> Active | F19: Kevin Barnes | H19: Lanark | I19: 815-238-6379 | K19: took place of Julie Bickelhaupt Board Liason | L19: Book 63
B20: 2025-2027 | C20: 45689 | D20: 46419 | E20: =IF(D20>=TODAY(),"Active","Inactive") -> Active | F20: Jill Janssen | K20: Reappointment | L20: Book 63
E22: =COUNTIF(E4:E21, "Active") -> 2

Sheet Feb Jo Carr Ent.Zone
A1: JO-CARROLL ENTERPRISE ZONE BOARD 3 year Term 3 Members from each County 1 Board Liason Feb Appt | B1: Initial Term | C1: Term Start | D1: Term End | E1: Active/Inactive | F1: Name | G1: Street | H1: City | I1: Reappoint or replace | J1: Book Rec | K1: Page Rec | L1: note
B2: 2004 | D2: 38018 | E2: =IF(D2>=TODAY(),"Active","Inactive") -> Inactive | F2: Rob Canier | J2: Book 22 | K2: Page 227
B3: 2004 | D3: 38018 | E3: =IF(D3>=TODAY(),"Active","Inactive") -> Inactive | F3: Richard Demoss | J3: Book 22 | K3: Page 227
B4: 2004 | D4: 38018 | E4: =IF(D4>=TODAY(),"Active","Inactive") -> Inactive | F4: Ed Olds | J4: Book 22 | K4: Page 227
E5: =IF(D5>=TODAY(),"Active","Inactive") -> Inactive
B6: 2009- 2012 | C6: 39845 | D6: 40940 | E6: =IF(D6>=TODAY(),"Active","Inactive") -> Inactive | F6: Mike Melhus | J6: Book 29 | K6: Page 151
B7: 2010- 2013 | C7: 40210 | D7: 41306 | E7: =IF(D7>=TODAY(),"Active","Inactive") -> Inactive | F7: Ed Olds | J7: Book 30 | K7: Page 274
B8: 2010- 2013 | C8: 40210 | D8: 41306 | E8: =IF(D8>=TODAY(),"Active","Inactive") -> Inactive | F8: Richard Demoss | J8: Book 30 | K8: Page 274
B9: 2011- 2014 | C9: 40575 | D9: 41671 | E9: =IF(D9>=TODAY(),"Active","Inactive") -> Inactive | F9: Ed Olds | J9: Book 32 | K9: Page 83
B10: 2011-2014 | C10: 40575 | D10: 41671 | E10: =IF(D10>=TODAY(),"Active","Inactive") -> Inactive | F10: Paul Hartman | J10: Book 32 | K10: Page 83
B11: -2014 | D11: 41671 | E11: =IF(D11>=TODAY(),"Active","Inactive") -> Inactive | F11: Bill Robinson | I11: Replacing Ed Olds | J11: Book 33 | K11: Page 373
A12: 2 meetings a year due to low activity | B12: 2012-2015 | C12: 40940 | D12: 42036 | E12: =IF(D12>=TODAY(),"Active","Inactive") -> Inactive | F12: Mike Melhus | I12: Reappointment | J12: Book 34 | K12: Page 67
B13: 2013-2016 | C13: 41306 | D13: 42401 | E13: =IF(D13>=TODAY(),"Active","Inactive") -> Inactive | F13: Paul Hartman | I13: Reappointment - back on track with term | J13: Book 36 | K13: Page 61
B14: 2013-2016 | C14: 41306 | D14: 42401 | E14: =IF(D14>=TODAY(),"Active","Inactive") -> Inactive | F14: Bill Robinson | I14: Reappointment - back on track with term | J14: Book 36 | K14: Page 61
B15: 2015-2018 | C15: 42036 | D15: 43132 | E15: =IF(D15>=TODAY(),"Active","Inactive") -> Inactive | F15: Mike Melhus | I15: Reappointment | J15: Book 38 | K15: Page 280
B16: 2016-2019 | C16: 42401 | D16: 43497 | E16: =IF(D16>=TODAY(),"Active","Inactive") -> Inactive | F16: Paul Hartman | I16: Reappointment | J16: Book 40 | K16: Page 3
B17: 2016-2019 | C17: 42401 | D17: 43497 | E17: =IF(D17>=TODAY(),"Active","Inactive") -> Inactive | F17: Bill Robinson | I17: Reappointment | J17: Book 40 | K17: Page 3
B18: -2018 | D18: 43132 | E18: =IF(D18>=TODAY(),"Active","Inactive") -> Inactive | F18: Laura Roach | I18: Replacing Mike Melhus | J18: Book 40 | K18: Page 322
B19: 2018-2021 | C19: 43132 | D19: 44228 | E19: =IF(D19>=TODAY(),"Active","Inactive") -> Inactive | F19: Laura Roach | I19: Reappointment | J19: Book 44 | K19: Page 4
B20: 2019-2022 | C20: 43497 | D20: 44593 | E20: =IF(D20>=TODAY(),"Active","Inactive") -> Inactive | F20: Paul Hartman | I20: Reappointment | J20: Book 47 | K20: page 65
B21: 2019-2022 | C21: 43497 | D21: 44593 | E21: =IF(D21>=TODAY(),"Active","Inactive") -> Inactive | F21: Bill Robinson | I21: Reappointment | J21: Book 47 | K21: Page 65
B22: 2021-2024 | C22: 44228 | D22: 45323 | E22: =IF(D22>=TODAY(),"Active","Inactive") -> Inactive | F22: Laura Roach | I22: Reappointment | J22: Book 51 | K22: Page 1 | L22: Need to replace- she moved
B23: 2023-2025 | C23: 44958 | D23: 45689 | E23: =IF(D23>=TODAY(),"Active","Inactive") -> Inactive | F23: Paul Hartman | I23: Reappointment | J23: Book 55 | K23: Page 255 | L23: John Grotto - County Board Liaison 2023 | P23: Book 55 | Q23: Page 212
B24: 2023-2025 | C24: 44958 | D24: 45689 | E24: =IF(D24>=TODAY(),"Active","Inactive") -> Inactive | F24: Bill Robinson | I24: Reappointment | J24: Book 55 | K24: Page 255 | L24: Joseph Payette - County Board Liaison 2024 Book 58 | Q24: Page 228
B25: 2024-2028 | C25: 45323 | D25: 46784 | E25: =IF(D25>=TODAY(),"Active","Inactive") -> Active | F25: Julie Bickelhaupt | I25: Co Board Liason
E31: =COUNTIF(E10:E30, "Active") -> 1
F35: Ordinance estab 2004 ? Where did it originate from
F36: 2012 last contact name - Sandra Prescott contact 815-772-5182
F37: Meet 2 times a year - Army Corp limited sales of property.
A40: Gary Camarano

Sheet Feb Farmland Assess.
A1: COUNTY FARMLAND ASSESSMENT LOCAL REVIEW COMMITTEE Term as needed Feb Appt Superivsor of Assessments and Board of Review Chairman | B1: Initial Term | C1: Term Start | D1: Term End | E1: Active/Inactive | F1: Name | G1: Street | H1: City | I1: Reappoint or replace | J1: Book Rec | K1: Page Rec
B2: 2009 | F2: Cindy Hook | J2: Book 29 | K2: Page 328
B3: 2010 | F3: Jeremy Flikkema | J3: Book 31 | K3: Page 127
B4: 2011 | F4: Jon Lower | J4: Book 32 | K4: Page 259
B8: Explain this

Sheet Feb HousingAuth.
A1: CARROLL COUNTY HOUSING AUTHORITY 5 year term 5 Members Feb appt | B1: Initial Term | C1: Term Start | D1: Term End | E1: Active/Inactive | F1: Name | G1: Street | H1: City | I1: Reappoint or replace | J1: Phone # | K1: email | L1: Book Rec | M1: Page Rec | N1: Note
B2: 2002- 2007 | C2: 38018 | D2: 39114 | E2: =IF(D2>=TODAY(),"Active","Inactive") -> Inactive | F2: Walt Miller | I2: Reappointment | L2: Book 19 | M2: Page 247
B3: 2003-2008 | C3: 37653 | D3: 39479 | E3: =IF(D3>=TODAY(),"Active","Inactive") -> Inactive | F3: Fred Dauphin | I3: Reappointment | L3: Book 21 | M3: Page 4
B4: 2004- 2009 | C4: 38018 | D4: 39845 | E4: =IF(D4>=TODAY(),"Active","Inactive") -> Inactive | F4: Beth Ritchie | I4: Reappointment | L4: Book 22 | M4: page 169
B5: 2005- 2010 | C5: 38384 | D5: 40210 | E5: =IF(D5>=TODAY(),"Active","Inactive") -> Inactive | F5: Marylis Dreier | L5: Book 23 | M5: Page 370
B6: 2006- 2011 | C6: 38749 | D6: 40575 | E6: =IF(D6>=TODAY(),"Active","Inactive") -> Inactive | F6: Catherine Stasch | L6: Book 25 | M6: Page 98
B7: 2007- 2012 | C7: 39114 | D7: 40940 | E7: =IF(D7>=TODAY(),"Active","Inactive") -> Inactive | F7: Walt Miller | I7: Reappointment | L7: Book 26 | M7: Page 306
B8: -2009 | D8: 39845 | E8: =IF(D8>=TODAY(),"Active","Inactive") -> Inactive | F8: Merle Long | I8: Replacing Beth Ritchie | L8: Book 27 | M8: Page 252
B9: -2010 | C9: 40179 | E9: =IF(D9>=TODAY(),"Active","Inactive") -> Inactive | F9: Harold Buck | I9: Replacing Marylis Dreier | L9: Book 27 | M9: Page 252
B10: 2012-2017 | C10: 40940 | D10: 42767 | E10: =IF(D10>=TODAY(),"Active","Inactive") -> Inactive | F10: Paul Hartman | I10: Replacing Walt Miller | L10: Book 27 | M10: Page 252
E11: =IF(D11>=TODAY(),"Active","Inactive") -> Inactive | F11: Ruth Kelly | L11: Book 28 | M11: Page 3
B12: 2008-2013 | C12: 39479 | D12: 41306 | E12: =IF(D12>=TODAY(),"Active","Inactive") -> Inactive | F12: John Bimm | I12: Replacing Fred Dauphin | L12: Book 28 | M12: Page 152
B13: 2009-2014 | C13: 39845 | D13: 41671 | E13: =IF(D13>=TODAY(),"Active","Inactive") -> Inactive | F13: Merle Long | L13: Book 29 | M13: Page 151
E14: =IF(D14>=TODAY(),"Active","Inactive") -> Inactive | F14: Harold Buck | L14: Book 30 | M14: Page 274
B15: 2010-2015 | C15: 40210 | D15: 42036 | E15: =IF(D15>=TODAY(),"Active","Inactive") -> Inactive | F15: Peg Haffey | I15: Replacing Harold Buck | L15: Book 30 | M15: Page 412
B16: 2011- 2016 | C16: 40575 | D16: 42401 | E16: =IF(D16>=TODAY(),"Active","Inactive") -> Inactive | F16: Ruth Kelly | L16: Book 32 | M16: Page 133
B17: -2013 | D17: 41306 | E17: =IF(D17>=TODAY(),"Active","Inactive") -> Inactive | F17: Connie Zink | I17: Replacing John Bimm | L17: Book 33 | M17: Page 3
B18: 2013-2018 | C18: 41306 | D18: 43132 | E18: =IF(D18>=TODAY(),"Active","Inactive") -> Inactive | F18: Connie Zink | L18: Book 35 | M18: Page 332
B19: -2014 | D19: 41671 | E19: =IF(D19>=TODAY(),"Active","Inactive") -> Inactive | F19: Shawn Picoloti | I19: replacing Merle Long | L19: Book 37 | M19: Page 3
B20: 2014-2019 | C20: 41671 | D20: 43497 | E20: =IF(D20>=TODAY(),"Active","Inactive") -> Inactive | F20: Shawn Picoloti | I20: Reappointment | L20: Book 37 | M20: Page 62
B21: 2015-2020 | C21: 42036 | D21: 43862 | E21: =IF(D21>=TODAY(),"Active","Inactive") -> Inactive | F21: Peg Haffey | I21: Reappointment | L21: Book 38 | M21: Page 280
B22: -2018 | D22: 43132 | E22: =IF(D22>=TODAY(),"Active","Inactive") -> Inactive | F22: Bill Robinson | I22: Replacing Connie Zink | L22: Book 39 | M22: Page 373
B23: 2016-2021 | C23: 42402 | D23: 44228 | E23: =IF(D23>=TODAY(),"Active","Inactive") -> Inactive | F23: Ruth Kelly | I23: Reappointment | L23: Book 40 | M23: Page 3
B24: 2017-2022 | C24: 42767 | D24: 44593 | E24: =IF(D24>=TODAY(),"Active","Inactive") -> Inactive | F24: Paul Hartman | I24: Reappointment | L24: Book 42 | M24: Page 284
B25: 2018-2023 | C25: 43132 | D25: 44958 | E25: =IF(D25>=TODAY(),"Active","Inactive") -> Inactive | F25: Bill Robinson | I25: Reappointment | L25: Book 44 | M25: Page 4
B26: 2019-2024 | C26: 43497 | D26: 45323 | E26: =IF(D26>=TODAY(),"Active","Inactive") -> Inactive | F26: Shawn Picoloti | I26: Reappointment | L26: Book 47 | M26: Page 65
B27: 2019-2021 | C27: 43497 | D27: 44228 | E27: =IF(D27>=TODAY(),"Active","Inactive") -> Inactive | F27: Charles O'Neal | I27: Replacing Ruth Kelly | L27: Book 47 | M27: Page 392
B28: 2020-2025 | C28: 43862 | D28: 45689 | E28: =IF(D28>=TODAY(),"Active","Inactive") -> Inactive | F28: Peg Haffey | I28: Reappointment | J28: 8152384686 | K28: haffeyp@gmail.com | L28: Book 49 | M28: Page 68
B29: 2021-2026 | C29: 44228 | D29: 46054 | E29: =IF(D29>=TODAY(),"Active","Inactive") -> Active | F29: Amanda Titus | I29: Replacing Charles O'Neal | J29: (815) 990-1789 | L29: Book 50 | M29: Page 415 | N29: Book 51 | O29: Page 1 | P29: Reappontment
B30: 2022-2027 | C30: 44593 | D30: 46419 | E30: =IF(D30>=TODAY(),"Active","Inactive") -> Active | F30: Paul Hartman | I30: Reappointment | J30: 815-275-1887 | L30: Book 53 | M30: Page 4
B31: 2023-2024 | C31: 44958 | D31: 45323 | E31: =IF(D31>=TODAY(),"Active","Inactive") -> Inactive | F31: Dan Nevills | I31: Replacing Shawn Picolotti | J31: 815-275-7561 | M31: page 254
B32: 2023-2028 | C32: 44958 | D32: 46784 | E32: =IF(D32>=TODAY(),"Active","Inactive") -> Active | F32: Bill Robinson | I32: Reappointment | J32: (815) 541-8632 | L32: Book 55 | M32: Page 282
B33: -2027 | D33: 46419 | E33: =IF(D33>=TODAY(),"Active","Inactive") -> Active | F33: JoAnna Davies | I33: Replacing Paul Hartman | J33: (217) 690-5766 | L33: Book 57 | M33: Page 251
B34: 2024-2029 | C34: 45323 | D34: 47150 | E34: =IF(D34>=TODAY(),"Active","Inactive") -> Active | F34: Dan Nevills | I34: Reappointment | J34: 815-275-7561 | L34: Book 58 | M34: 5
B35: 2025-2030 | C35: 45689 | D35: 47515 | E35: =IF(D35>=TODAY(),"Active","Inactive") -> Active | F35: Peg Haffey | I35: Reappointment | L35: Book 63
E39: =COUNTIF(E19:E38, "Active") -> 6

Sheet March FTZ
A1: JO-CARROLL FOREIGN TRADE ZONE 3 Year Terms 3 members from each county Staggered Terms March appt | B1: Initial Term | C1: Term Start | D1: Term End | E1: Active/Inactive | F1: Name | G1: Street | H1: City | I1: Reappoint or replace | J1: Book Rec | K1: Page Rec | L1: Note
B2: 2004-2005 | F2: Richard Demoss | J2: Book 22 | K2: Page 334
B3: 2004- 2006 | F3: Ed Olds | J3: Book 22 | K3: Page 334
B4: 2004-2007 | F4: Robert Canier | J4: Book 22 | K4: Page 334
B5: 2005- 2008 | F5: Richard Demoss
B6: 2006- 2009 | F6: Ed Olds
B7: 2007- 2010 | F7: Mike Melhus | J7: Book 27 | K7: Page 252
B8: 2008 - 2011 | F8: Richard Demoss | I8: Reappointed | J8: Book 28 | K8: Page 152
B9: 2009- 2012 | F9: Ed Olds | J9: Book 29 | K9: Page 197
B10: 2010 - 2013 | F10: Mike Melhus | I10: Reappointed | J10: Book 30 | K10: Page 355
B11: -2012 | F11: Bill Jahnke | I11: Replacing Ed Olds | J11: Book 30 | K11: Page 355
B12: -2011 | F12: Andy Mills | I12: Replacing Richard Demoss | J12: Book 31 | K12: Page 151
B13: 2011-2014 | F13: Andy Mills | I13: Reappointed | J13: Book 32 | K13: Page 177
B14: 2012 - 2015 | F14: Bill Jahnke | I14: Reappointed | J14: Book 34 | K14: Page 150
B15: -2015 | F15: Kurt Dreger | I15: Replacing Bill Jahnke | J15: Book 35 | K15: Page 204
B16: 2013-2016 | F16: Mike Melhus | I16: Reappointed | J16: Book 36 | K16: Page 3
B17: 2014-2017 | F17: Andy Mills | I17: Reappointed | J17: Book 37 | K17: Page 93
B18: -2015 | E18: =IF(D18>=TODAY(),"Active","Inactive") -> Inactive | F18: Bill Robinson | I18: Replacing Kurt Dreger | J18: Book 37 | K18: Page 286
B19: 2015-2018 | E19: =IF(D19>=TODAY(),"Active","Inactive") -> Inactive | F19: Bill Robinson | I19: Reappointed | J19: Book 38 | K19: Page 325
B20: 2016-2019 | E20: =IF(D20>=TODAY(),"Active","Inactive") -> Inactive | F20: Jim Forth | I20: replacing Mike Melhus | J20: Book 40 | K20: Page 36
B21: 2017-2020 | E21: =IF(D21>=TODAY(),"Active","Inactive") -> Inactive | F21: Andy Mills | I21: Reappointed | J21: Book 42 | K21: Page 373
B22: 2018-2021 | E22: =IF(D22>=TODAY(),"Active","Inactive") -> Inactive | F22: Bill Robinson | I22: Reappointed | J22: Book
B23: 2020-2023 | E23: =IF(D23>=TODAY(),"Active","Inactive") -> Inactive | F23: Andy Mills | I23: Reappointed | J23: Book 49 | K23: Page 118
B24: 2021-2024 | C24: 44256 | D24: 45352 | E24: =IF(D24>=TODAY(),"Active","Inactive") -> Inactive | F24: Bill Robinson | I24: Reappointed | J24: Book 51 | K24: Page 73
B25: 2021-2024 | C25: 44256 | D25: 45352 | E25: =IF(D25>=TODAY(),"Active","Inactive") -> Inactive | F25: Robert Canier | I25: replacing Jim Forth | J25: Book 51 | K25: page 303
B26: 2022-2025 | C26: 44621 | D26: 45717 | E26: =IF(D26>=TODAY(),"Active","Inactive") -> Inactive | F26: Dennis Roberts | I26: Reaplace Bill Robinson | J26: Book 53 | K26: Page 4
B27: -2024 | D27: 45352 | E27: =IF(D27>=TODAY(),"Active","Inactive") -> Inactive | F27: Robert Canier | I27: Not Reappointing | J27: Book 56 | K27: Page 4
B28: -2025 | D28: 45717 | E28: =IF(D28>=TODAY(),"Active","Inactive") -> Inactive | F28: Dennis Roberts | J28: Book 56 | K28: Page 4
B29: 2023-2026 | C29: 44986 | D29: 46082 | E29: =IF(D29>=TODAY(),"Active","Inactive") -> Active | F29: Andy Mills | I29: Reappointed | J29: Book 56 | K29: Page 57
B30: 2024-2027 | C30: 45352 | D30: 46447 | E30: =IF(D30>=TODAY(),"Active","Inactive") -> Active | F30: Bill Robinson | I30: Reappointed | J30: Book 59 | K30: Page 253
B31: 2025-2027 | C31: 45717 | D31: 46447 | E31: =IF(D31>=TODAY(),"Active","Inactive") -> Active | F31: Dennis Roberts | I31: Reappointed | J31: Book 63
E35: =COUNTIF(E15:E34, "Active") -> 3

Sheet April HotelMotel
A1: HOTEL/MOTEL TAX BOARD 2 year Terms 5 members April Appt | B1: Initial Term | C1: Term Start | D1: Term End | E1: Active/Inactive | F1: Name | G1: Street | H1: City | I1: Reappoint or replace | J1: Book Rec | K1: Page Rec | L1: Note
B2: 2004- 2006 | F2: Fern Stadel | J2: Book 22 | K2: Page 291
B3: 2004- 2006 | F3: Lawrence Bruckner | J3: Book 22 | K3: Page 291
B4: 2004-2006 | F4: Betty Harms | J4: Book 22 | K4: Page 291
B5: 2005 - 2007 | F5: Charla Spathies | J5: Book 24 | K5: Page 5
B6: 2006 - 2008 | F6: Betty Harms | I6: Reappointed | J6: Book 25 | K6: Page 45
B7: 2006 - 2008 | F7: Lawrence Bruckner | I7: Reappointed | J7: Book 25 | K7: Page 98
B8: 2006 - 2008 | F8: Fern Stadel | I8: Reappointed | J8: Book 25 | K8: Page 98
B9: 2007 | F9: Sherry Vidinich | J9: Book 26 | K9: Page 350
B10: 2007- 2009 | F10: Charla Spathies | I10: Reappointed | J10: Book 27 | K10: Page 3
B11: 2007 - 2009 | F11: Helen Latouche | J11: Book 27 | K11: Page 3
B12: 2008 - 2010 | F12: Sherri Vidinich | I12: Alternate | J12: Book 28 | K12: Page 198
B13: 2008 - 2010 | F13: Lawrence Bruckner | I13: Reappointed | J13: Book 28 | K13: Page 198
B14: 2008- 2010 | F14: Betty Harms | I14: Reappointed | J14: Book 28 | K14: Page 198
B15: 2009- 2011 | F15: Charla Spathies | I15: Reappointed | J15: Book 29 | K15: Page 266
B16: 2009- 2011 | F16: Cheryl Cole | J16: Book 29 | K16: Page 266
B17: 2009- | F17: Fern Stadel | I17: Reappointed | J17: Book 30 | K17: Page 123
B18: 2010- 2012 | F18: Sherri Vidinich | I18: Reappointed | J18: Book 30 | K18: Page 412
B19: 2010- 2012 | F19: Lawrence Bruckner | I19: Reappointed | J19: Book 30 | K19: Page 412
B20: 2010- 2012 | F20: Fern Stadel | I20: Reappointed | J20: Book 30 | K20: Page 412
B21: 2011-2015 | F21: Cheryl Cole | I21: Reappointed | J21: Book 32 | K21: Page 213
B22: 2011- 2013 | F22: Charla Spathies | I22: Reappointed | J22: Book 32 | K22: Page 213
B23: -2012 | F23: Connie Zink | I23: Replacing Lawrence Bruckner | J23: Book 33 | K23: Page 373
B24: 2012-2014 | F24: Connie Zink | I24: Reappointed | J24: Book 34 | K24: Page 205
B25: 2012-2014** | F25: Fern Stadel | I25: Reappointed | J25: Book 34 | K25: Page 205
B26: 2012-2014 | F26: Sherry Vidinich | I26: Reappointed | J26: Book 34 | K26: Page 205
B27: 2013-2015 | F27: Charla Spathies | I27: Reappointed | J27: Book 36 | K27: Page 3
B28: 2014-2016 | F28: Sherry Vidinich | I28: Reappointed | J28: Book 37 | K28: 133a
B29: 2014-2016 | F29: Connie Zink | I29: Reappointed | J29: Book 37 | K29: 133a
B30: 2014-2016 | F30: Fern Stadel | I30: Reappointed | J30: Book 37 | K30: 133a
B31: 2015-2017 | F31: Charla Spathies | I31: Reappointed | J31: Book 38 | K31: Page 378
B32: 2015-2017 | F32: Cheryl Cole | I32: Reappointed | J32: Book 38 | K32: Page 378
B33: -2016 | F33: Lynn Collins | I33: Replacing Connie Zink | J33: Book 39 | K33: Page 3
B34: 2016-2018 | F34: Sherry Vidinich | I34: Reappointed | J34: Book 40 | K34: Page 165
B35: 2016-2018 | F35: Fern Stadel | I35: Reappointed | J35: Book 40 | K35: Page 165
B36: 2016-2018 | F36: Lynn Collins | I36: Reappointed | J36: Book 40 | K36: Page 165
B37: 2017-2019 | F37: Charla Spathies | I37: Reappointed | J37: Book 43 | K37: Page 4
B38: 2017-2019 | F38: Cheryl Cole | I38: Reappointed | J38: Book 43 | K38: Page 4
B39: -2018 | F39: Maria Krull | I39: Replacing Fern Stadel | J39: Book 44 | K39: Page 269
B40: 2018-2020 | F40: Sherry Vidinich | I40: Reappointed | J40: Book 45 | K40: Page 150
...

Sheet April LRA
A1: LRA 3 Year Terms 4 Members from each County April Appt | B1: Initial Term | C1: Term Start | D1: Term End | E1: Active/Inactive | F1: Name | G1: Street | H1: City | I1: Reappoint or replace | J1: Book Rec | K1: Page Rec | L1: Note
B2: 2003- 2006 | F2: John Mcconnel | J2: Book 20 | K2: Page 351
B3: 2003- 2006 | F3: Bill Sparboe | J3: Book 21 | K3: Page 4
B4: 2003- | F4: Ed Olds | I4: replacing Carl Lantau | J4: Book 21 | K4: Page 52
B5: 2003- 2006 | F5: John Rapp | I5: replacing Judy Gray | J5: Book 21 | K5: Page 52
B6: -2006 | F6: Bill Wright | I6: replacing John Mcconnel | J6: Book 21 | K6: Page 220
B7: 2006- 2009 | F7: John Rapp | I7: reappointed | J7: Book 25 | K7: Page 147
B8: 2006- 2009 | F8: Bill Sparboe | I8: reappointed | J8: Book 25 | K8: Page 147
B9: 2006- 2009 | F9: Bill Wright | I9: reappointed | J9: Book 25 | K9: Page 147
B10: 2006- 2009 | F10: Ed Olds | I10: reappointed | J10: Book 25 | K10: Page 147
B11: -2009 | F11: John Majors | I11: replacing John Rapp | J11: Book 28 | K11: Page 3
B12: 2009- 2012 | F12: Bill Sparboe | I12: reappointed | J12: Book 29 | K12: Page 266
B13: 2009- 2012 | F13: Ed Olds | I13: reappointed | J13: Book 29 | K13: Page 266
B14: 2009 - 2012 | F14: Bill Wright | I14: reappointed | J14: Book 30 | K14: Page 78
B15: 2009- 2012 | F15: Paul Hartman | I15: replacing John Majors | J15: Book 30 | K15: Page 412
B16: -2012 | F16: William Robinson | I16: replacing Bill Sparboe | J16: Book 31 | K16: Page 298
B17: -2012 | F17: Bill McCormick | I17: replacing Ed Olds | J17: Book 33 | K17: Page 3
B18: 2012-2015 | F18: Bill McCormick | I18: reappointed | J18: Book 34 | K18: Page 205
B19: 2012-2015 | F19: Bill Robinson | I19: reappointed | J19: Book 34 | K19: Page 205
B20: 2012-2015 | F20: Paul Hartman | I20: reappointed | J20: Book 34 | K20: Page 205
B21: 2012-2015 | F21: Bill Wright | I21: reappointed | J21: Book 35 | K21: Page 148
B22: 2014- | F22: Kevin Reibel | I22: Unexpired Term | J22: Book 37 | K22: Page 133A
B23: 2015-2018 | F23: Paul Hartman | I23: reappointed | J23: Book 38 | K23: Page 378
B24: 2015-2018 | F24: Kevin Reibel | I24: reappointed | J24: Book 38 | K24: Page 378
B25: 2015-2018 | F25: Bill Robinson | I25: reappointed | J25: Book 38 | K25: Page 378
B26: 2015-2018 | F26: Bill Wright | I26: reappointed | J26: Book 38 | K26: Page 378
B27: 2018-2021 | F27: Paul Hartman | I27: reappointed | J27: Book 45 | K27: Page 150
B28: 2018-2021 | F28: Kevin Reibel | I28: reappointed | J28: Book 45 | K28: Page 150
B29: 2018-2021 | F29: Bill Robinson | I29: reappointed | J29: Book 45 | K29: Page 150
... B34: 2021-2024 | F34: Bill Wright | I34: reappointed | J34: Book 51 | K34: Page 160
B35: -2024 | F35: Susan Jacobs | I35: Replacing Paul Hartman | J35: Book 57 | K35: Page 251
B36: 2024-2027 | C36: 45383 | D36: 46478 | E36: =IF(D36>=TODAY(),"Active","Inactive") -> Active | F36: Kevin Reibel | I36: reappointed | J36: Book 59 | K36: Page 253
B37: 2024-2026 | C37: 45383 | D37: 46113 | E37: =IF(D37>=TODAY(),"Active","Inactive") -> Active | F37: Susan Jacobs | I37: reappointed | J37: Book 59 | K37: Page 253
B38: 2024-2026 | C38: 45383 | D38: 46113 | E38: =IF(D38>=TODAY(),"Active","Inactive") -> Active | F38: Bill Wright | I38: reappointed | J38: Book 59 | K38: Page 253
B39: 2024-2025 | C39: 45383 | D39: 45748 | E39: =IF(D39>=TODAY(),"Active","Inactive") -> Inactive | F39: Bill Robinson | I39: reappointed | J39: Book 59 | K39: Page 253
B40: 2025-2028 | C40: 45748 | D40: 46844 | E40: =IF(D40>=TODAY(),"Active","Inactive") -> Active | F40: Bill Robinson | I40: reappointed | J40: Book 63
E42: =COUNTIF(E24:E39, "Active") -> 3

Sheet April Chad Fire
A1: CHADWICK FIRE TRUSTEE 3 year terms 3 members April Appt | B1: Initial Term | C1: Term Start | D1: Term End | E1: Active/Inactive | F1: Name | G1: Street | H1: City | I1: Reappoint or replace | J1: Book Rec | K1: Page Rec | L1: Note
B2: 2002 - 2005 | F2: Allen Smith | J2: Book 19 | K2: Page 324
B3: 2003- 2006 | F3: Rick Baumgardt | J3: Book 21 | K3: Page 87
B4: 2004- 2007 | F4: Carolyn Fink | J4: Book 22 | K4: Page 334
B5: 2005- 2008 | F5: Terry Schreiner | J5: Book 24 | K5: Page 5
B6: 2006- 2009 | F6: Rick Baumgardt | I6: reappointed | J6: Book 25 | K6: Page 147
B7: 2007 - 2010 | F7: Cynthia Ottens | J7: Book 27 | K7: Page 3
B8: 2008- 2011 | F8: Michael Johnson | J8: Book 28 | K8: Page 198
B9: 2009- 2012 | F9: Dwight Smith | J9: Book 29 | K9: Page 266
B10: 2010 - 2013 | F10: Cynthia Ottens | I10: reappointed | J10: Book 30 | K10: Page 412
B11: 2011-2014 | F11: Michael Johnson | I11: reappointed | J11: Book 32 | K11: Page 213
B12: 2012-2015 | F12: James Daehler | J12: Book 34 | K12: Page 177
B13: 2013-2016 | F13: Cynthia Ottens | I13: reappointed | J13: Book 36 | K13: Page 3
B14: 2014-2017 | F14: Michael Johnson | I14: reappointed | J14: Book 37 | K14: Page 133
B15: 2015-2018 | F15: James Daehler | I15: reappointed | J15: Book 38 | K15: Page 378
B16: 2016-2019 | F16: Cynthia Ottens | I16: reappointed | J16: Book 40 | K16: Page 166
B17: 2017-2020 | F17: Michael Johnson | I17: reappointed | J17: Book 43 | K17: Page 4
B18: 2018-2021 | F18: James Daehler | I18: reappointed | J18: Book 45 | K18: Page 150
B19: 2019-2022 | F19: Cynthia Ottens | I19: reappointed | J19: Book 47 | K19: Page 171
B20: 2020-2023 | F20: Michael Johnson | I20: reappointed | J20: Book 49 | K20: Page 118
B21: 2021-2024 | C21: 44287 | D21: 45383 | E21: =IF(D21>=TODAY(),"Active","Inactive") -> Inactive | F21: James Daehler | I21: reappointed | J21: Book 51 | K21: Page 160
B22: 2022-2025 | C22: 44652 | D22: 45748 | E22: =IF(D22>=TODAY(),"Active","Inactive") -> Inactive | F22: Cynthia Ottens | I22: reappointed | J22: Book 53 | K22: Page 148
B23: 2023-2026 | C23: 45017 | D23: 46113 | E23: =IF(D23>=TODAY(),"Active","Inactive") -> Active | F23: Michael Johnson | I23: reappointed | J23: Book 56 | K23: Page 57
B24: 2024-2027 | C24: 45383 | D24: 46478 | E24: =IF(D24>=TODAY(),"Active","Inactive") -> Active | F24: James Daehler | I24: reappointed | J24: Book 59 | K24: Page 294
B25: 2025-2028 | C25: 45383 | D25: 46844 | E25: =IF(D25>=TODAY(),"Active","Inactive") -> Active | F25: Cynthia Ottens | I25: reappointed | J25: Book 63
E27: =COUNTIF(E9:E24, "Active") -> 2

Sheet April Lanark Fire
A1: LANARK FIRE TRUSTEE 3 year terms 3 members April Appt. | B1: Initial Term | C1: Term Start | D1: Term End | E1: Active/Inactive | F1: Name | G1: Street | H1: City | I1: Reappoint or replace | J1: Book Rec | K1: Page Rec | L1: Note
B2: 2002- 2005 | F2: Duane Smith | J2: Book 19 | K2: Page 324
B3: 2003- 2006 | F3: Connie Knutti | J3: Book 21 | K3: Page 87
B4: 2004- 2007 | F4: Chris Lower | J4: Book 22 | K4: Page 334
B5: 2005- 2008 | F5: Duane Smith | I5: reappointed | J5: Book 24 | K5: Page 5
B6: 2006- | F6: Jim Callaway | J6: Book 25 | K6: Page 98
B7: 2006- 2009 | F7: Connie Knutti | I7: reappointed | J7: Book 25 | K7: Page 147
B8: 2007- 2010 | F8: Chris Lower | I8: reappointed | J8: Book 27 | K8: Page 3
B9: 2008 - 2011 | F9: Jim Callaway | I9: reappointed | J9: Book 28 | K9: Page 198
B10: 2009 -2012 | F10: Connie Knutti | I10: reappointed | J10: Book 29 | K10: Page 266
B11: 2010- 2013 | F11: Chris Lower | I11: reappointed | J11: Book 30 | K11: Page 412
B12: 2011-2014 | F12: Jim Callaway | I12: reappointed | J12: Book 32 | K12: Page 213
B13: 2012-2015 | F13: Connie Knutti | I13: reappointed | J13: Book 34 | K13: Page 205
B14: 2013-2016 | F14: Chris Lower | I14: reappointed | J14: Book 36 | K14: Page 3
B15: 2014-2017 | F15: Jim Callaway | I15: reappointed | J15: Book 37 | K15: page 133 | L15: Passed away
B16: -2017 | F16: Richard Walendukanis | J16: Book 38 | K16: Page 156 | L16: Replacing Jim Callaway
B17: 2015-2018 | F17: Connie Knutti | I17: reappointed | J17: Book 38 | K17: Page 378
B18: 2016-2019 | F18: Chris Lower | I18: reappointed | J18: Book 40 | K18: Page 166
B19: 2017-2020 | F19: Richard Walendukanis | I19: reappointed | J19: Book 43 | K19: Page 4
B20: 2018-2021 | F20: Connie Knutti | I20: reappointed | J20: Book 45 | K20: Page 150
B21: 2019-2022 | F21: Chris Lower | I21: reappointed | J21: Book 47 | K21: Page 171
B22: 2020-2023 | F22: Richard Walendukanis | I22: reappointed | J22: Book 49 | K22: Page 118
B23: 2021-2024 | F23: Connie Knutti | I23: reappointed | J23: Book 51 | K23: Page 160
B24: -2023 | F24: Robert Bradbury | I24: replacing Richard Walendukanis | J24: Book 52 | K24: Page 415
B25: 2022-2025 | C25: 44652 | D25: 45748 | E25: =IF(D25>=TODAY(),"Active","Inactive") -> Inactive | F25: Chris Lower | I25: reappointed | J25: Book 53 | K25: page 148
B26: -2024 | D26: 45383 | E26: =IF(D26>=TODAY(),"Active","Inactive") -> Inactive | F26: Leigh Anne Piper | I26: Reaplacing Connie Knutti | J26: Book 55 | K26: Page 164
B27: 2023-2026 | C27: 45017 | D27: 46113 | E27: =IF(D27>=TODAY(),"Active","Inactive") -> Active | F27: Robert Bradbury | I27: reappointed | J27: Book 56 | K27: Page 57
B28: 2024-2027 | C28: 45383 | D28: 46478 | E28: =IF(D28>=TODAY(),"Active","Inactive") -> Active | F28: Steve Carroll | J28: Book 59 | K28: Page 294
B29: 2025-2028 | C29: 45748 | D29: 46844 | E29: =IF(D29>=TODAY(),"Active","Inactive") -> Active | F29: Chris Lower | I29: reappointed | J29: Book 63
E33: =COUNTIF(E13:E28, "Active") -> 2

Sheet April Mill Fire
A1: MILLEDGEVILLE FIRE TRUSTEE 3 year terms 3 members 1 Whiteside April Appt | B1: Initial Term | C1: Term Start | D1: Term End | E1: Active/Inactive | F1: Name | G1: Street | H1: City | I1: Reappoint or replace | J1: Book Rec | K1: Page Rec | L1: PH# | M1: Notes
B2: 2002- 2005 | F2: KERMIT REINS | J2: Book 19 | K2: Page 324
B3: 2003- 2006 | F3: Rod Herrick | J3: Book 21 | K3: Page 87
B4: 2004- 2007 | F4: Keith Oncken | J4: Book 22 | K4: Page 334
B5: 2004- | F5: William Ritenour | J5: Book 23 | K5: Page 298
B6: 2005- 2008 | F6: Kermit Reins | I6: Reappointed | J6: Book 24 | K6: Page 5
B7: 2006- 2009 | F7: William Ritenour | I7: Reappointed | J7: Book 25 | K7: Page 147
B8: 2007- 2010 | F8: Keith Oncken | I8: Reappointed | J8: Book 27 | K8: Page 3
B9: 2008 - 2011 | F9: Kermit Reins | I9: Reappointed | J9: Book 28 | K9: Page 198
B10: 2009 -2012 | F10: William Ritenour | I10: Reappointed | J10: Book 29 | K10: Page 266
B11: 2009- | F11: James Haag | J11: Book 29 | K11: Page 266
B12: 2010 - 2013 | F12: Keith Oncken | I12: Reappointed | J12: Book 30 | K12: Page 355
B13: 2011-2014 | F13: Kermit Reins | I13: Whiteside Does Appt | J13: Book 32 | K13: Page 213
B14: 2012-2015 | F14: James Haag | I14: reappointed | J14: Book 34 | K14: Page 205
B15: 2012-2015 | F15: Mark Dettman | J15: Book 34 | K15: page 205
B16: 2013-2016 | F16: Keith Oncken | I16: Reappointed | J16: Book 36 | K16: Page 3
B17: 2014-2017 | F17: KERMIT REINS | I17: Reappointed | J17: book 37 | K17: Page 133
B18: 2015-2018 | F18: James Haag | I18: Reappointed | J18: Book 38 | K18: Page 378
B19: 2015-2018 | F19: Mark Dettman | I19: Reappointed | J19: Book 38 | K19: Page 378
B20: 2016-2019 | F20: Keith Oncken | I20: Reappointed | J20: Book 40 | K20: Page 166
B21: 2017-2020** | F21: Kenneth Reins | J21: Book 43 | K21: Page 4
B22: 2018-2021 | F22: James Haag | I22: reappointed | J22: Book 45 | K22: Page 150
B23: 2018-2021 | F23: Mark Dettman | I23: reappointed | J23: Book 45 | K23: Page 150
B24: 2019-2022 | F24: Keith Oncken | I24: reappointed | J24: Book 47 | K24: Page 171
B25: 2021-2024 | F25: James Haag | I25: reappointed | J25: Book 51 | K25: Page 160
B26: 2021-2024 | F26: Mark Dettman | I26: reappointed | J26: Book 51 | K26: Page 160
B27: 2022-2025 | C27: 44652 | D27: 45748 | E27: =IF(D27>=TODAY(),"Active","Inactive") -> Inactive | F27: Keith Oncken | I27: reappointed | J27: Book 53 | K27: Page 148 | L27: 8152257253
B28: -2024 | D28: 45383 | E28: =IF(D28>=TODAY(),"Active","Inactive") -> Inactive | F28: John Nesemeier | I28: Replacing James Haag | J28: Book 56 | K28: Page 57
B29: 2024-2027 | C29: 45383 | D29: 46478 | E29: =IF(D29>=TODAY(),"Active","Inactive") -> Active | F29: Mark Dettman | I29: reappointed | J29: Book 59 | K29: page 294 | L29: 8154417700
B30: 2024-2027 | C30: 45383 | D30: 46478 | E30: =IF(D30>=TODAY(),"Active","Inactive") -> Active | F30: John Nesemeier | I30: reappointed | J30: Book 59 | K30: Page 294 | L30: 8154994383
B31: 2025-2028 | C31: 45748 | D31: 46844 | E31: =IF(D31>=TODAY(),"Active","Inactive") -> Active | F31: Kevin Folk | J31: Book 63
E35: 3

Sheet April MTC Fire
A1: MT. CARROLL FIRE TRUSTEE 3 year terms 3 members April Appt | B1: Initial Term | C1: Term Start | D1: Term End | E1: Active/Inactive | F1: Name | G1: Street | H1: City | I1: Reappoint or replace | J1: Book Rec | K1: Page Rec | L1: Ph# | M1: Notes
B2: 2002- 2005 | E2: =IF(D2>=TODAY(),"Active","Inactive") -> Inactive | F2: JACK RAPP | J2: BOOK 19 | K2: PAGE 324
B3: 2003- 2006 | E3: =IF(D3>=TODAY(),"Active","Inactive") -> Inactive | F3: Charles Kessler | J3: Book 21 | K3: Page 87
B4: 2004- 2007 | E4: =IF(D4>=TODAY(),"Active","Inactive") -> Inactive | F4: Richard Handel | J4: Book 22 | K4: Page 334
B5: 2005- 2008 | E5: =IF(D5>=TODAY(),"Active","Inactive") -> Inactive | F5: Jack Rapp | I5: reappointed | J5: Book 24 | K5: Page 5
B6: 2006- 2009 | E6: =IF(D6>=TODAY(),"Active","Inactive") -> Inactive | F6: Charles Kessler | I6: reappointed | J6: Book 25 | K6: Page 147
B7: 2007 - 2010 | E7: =IF(D7>=TODAY(),"Active","Inactive") -> Inactive | F7: Richard Handel | I7: reappointed | J7: Book 27 | K7: Page 3
B8: 2008 -2011 | E8: =IF(D8>=TODAY(),"Active","Inactive") -> Inactive | F8: Jack Rapp | I8: reappointed | J8: Book 28 | K8: Page 198
B9: 2009 - 2012 | E9: =IF(D9>=TODAY(),"Active","Inactive") -> Inactive | F9: Charles Kessler | I9: reappointed | J9: Book 29 | K9: page 266
B10: -2011 | E10: =IF(D10>=TODAY(),"Active","Inactive") -> Inactive | F10: Ron Buckwalter | I10: replacing Jack Rapp | J10: Book 30 | K10: Page 355
B11: 2010- 2013 | E11: =IF(D11>=TODAY(),"Active","Inactive") -> Inactive | F11: Richard Handel | I11: reappointed | J11: Book 30 | K11: Page 412
B12: 2011-2014 | E12: =IF(D12>=TODAY(),"Active","Inactive") -> Inactive | F12: Ron Buckwalter | I12: reappointed | J12: Book 32 | K12: Page 213
B13: 2012-2015 | E13: =IF(D13>=TODAY(),"Active","Inactive") -> Inactive | F13: Deb Paschke | J13: Book 34 | K13: Page 177
B14: 2013-2016 | E14: =IF(D14>=TODAY(),"Active","Inactive") -> Inactive | F14: Richard Handel | I14: reappointed | J14: Book 36 | K14: Page 3
B15: 2014-2017 | E15: =IF(D15>=TODAY(),"Active","Inactive") -> Inactive | F15: Ron Buckwalter | I15: reappointed | J15: Book 37 | K15: Page 133
B16: -2016 | E16: =IF(D16>=TODAY(),"Active","Inactive") -> Inactive | F16: Marty Rapp | I16: replacing Dick Handel | J16: Book 37 | K16: Page 286
B17: 2015-2018 | E17: =IF(D17>=TODAY(),"Active","Inactive") -> Inactive | F17: Deb Paschke | I17: reappointed | J17: Book 38 | K17: Page 378
B18: 2016-2019 | E18: =IF(D18>=TODAY(),"Active","Inactive") -> Inactive | F18: Marty Rapp | I18: reappointed | J18: Book 40 | K18: Page 166
B19: 2017-2020 | E19: =IF(D19>=TODAY(),"Active","Inactive") -> Inactive | F19: Ron Buckwalter | I19: reappointed | J19: Book 43 | K19: Page 4
B20: 2017-2018 | E20: =IF(D20>=TODAY(),"Active","Inactive") -> Inactive | F20: Denny Benters | I20: replacing Deb Paschke | J20: Book 43 | K20: Page 4
B21: 2018-2021 | E21: =IF(D21>=TODAY(),"Active","Inactive") -> Inactive | F21: Denny Benters | I21: reappointed | J21: Book 45 | K21: Page 150
B22: 2019-2022 | E22: =IF(D22>=TODAY(),"Active","Inactive") -> Inactive | F22: Marty Rapp | I22: reappointed | J22: Book 47 | K22: page 171
B23: 2020-2023 | E23: =IF(D23>=TODAY(),"Active","Inactive") -> Inactive | F23: Ron Buckwalter | I23: reappointed | J23: Book 49 | K23: Page 118
B24: 2021-2024 | C24: 41/24 | D24: 45383 | E24: =IF(D24>=TODAY(),"Active","Inactive") -> Inactive | F24: Denny Benters | I24: reappointed | J24: Book 51 | K24: Page 160
B25: 2022-2025 | C25: 44652 | D25: 45748 | E25: =IF(D25>=TODAY(),"Active","Inactive") -> Inactive | F25: Marty Rapp | I25: reappointed | J25: Book 53 | K25: Page 148 | L25: 8152382464
B26: 2023-2026 | C26: 45017 | D26: 46113 | E26: =IF(D26>=TODAY(),"Active","Inactive") -> Active | F26: Ron Buckwalter | I26: reappointed | J26: Book 56 | K26: Page 57 | L26: 8152449325 | M26: 5632192065
B27: 2024-2027 | C27: 45383 | D27: 46478 | E27: =IF(D27>=TODAY(),"Active","Inactive") -> Active | F27: Dennis Benters | I27: reappointed | L27: 8152380236
B28: 2025-2028 | C28: 45748 | D28: 46844 | E28: =IF(D28>=TODAY(),"Active","Inactive") -> Active | F28: Marty Rapp | I28: reappointed | J28: Book 63
E30: =COUNTIF(E12:E27, "Active") -> 2

Sheet April Sav Fire
A1: SAVANNA FIRE TRUSTEE 3 yer terms 3 members April Appt | B1: Initial Term | C1: Term Start | D1: Term End | E1: Active/Inactive | F1: Name | G1: Street | H1: City | I1: Reappoint or replace | J1: Book Rec | K1: Page Rec | L1: ph# | M1: Notes
B2: 2002- 2005 | E2: =IF(D2>=TODAY(),"Active","Inactive") -> Inactive | F2: Rob Canier | J2: BOOK 19 | K2: PAGE 324
B3: 2003- 2006 | E3: =IF(D3>=TODAY(),"Active","Inactive") -> Inactive | F3: Robert Acuff | J3: Book 21 | K3: Page 87
B4: 2004- 2007 | E4: =IF(D4>=TODAY(),"Active","Inactive") -> Inactive | F4: Tom Ritchie | J4: Book 22 | K4: Page 401
B5: 2005- 2008 | E5: =IF(D5>=TODAY(),"Active","Inactive") -> Inactive | F5: Rob Canier | I5: reappointed | J5: Book 24 | K5: Page 5
B6: 2006- 2009 | E6: =IF(D6>=TODAY(),"Active","Inactive") -> Inactive | F6: Robert Acuff | I6: reappointed | J6: Book 25 | K6: Page 147
B7: 2007- 2010 | E7: =IF(D7>=TODAY(),"Active","Inactive") -> Inactive | F7: Tom Ritchie | I7: reappointed | J7: Book 27 | K7: Page 3
B8: 2008 - 2011 | E8: =IF(D8>=TODAY(),"Active","Inactive") -> Inactive | F8: Rob Canier | I8: reappointed | J8: Book 28 | K8: Page 198
B9: 2009 - 2012 | E9: =IF(D9>=TODAY(),"Active","Inactive") -> Inactive | F9: Robert Acuff | I9: reappointed | J9: Book 29 | K9: Page 266
B10: 2010- 2013 | E10: =IF(D10>=TODAY(),"Active","Inactive") -> Inactive | F10: Tom Ritchie | I10: reappointed | J10: Book 30 | K10: Page 412
B11: 2011-2014 | E11: =IF(D11>=TODAY(),"Active","Inactive") -> Inactive | F11: Rob Canier | I11: reappointed | J11: Book 32 | K11: Page 213
B12: 2012-2015 | E12: =IF(D12>=TODAY(),"Active","Inactive") -> Inactive | F12: Robert Acuff | I12: reappointed | J12: Book 34 | K12: Page 205
B13: 2013-2016 | E13: =IF(D13>=TODAY(),"Active","Inactive") -> Inactive | F13: Tom Ritchie | I13: reappointed | J13: Book 36 | K13: Page 3
B14: 2014-2017 | E14: =IF(D14>=TODAY(),"Active","Inactive") -> Inactive | F14: Robert Canier | I14: reappointed | J14: Book 37 | K14: Page 133
B15: 2015-2018 | E15: =IF(D15>=TODAY(),"Active","Inactive") -> Inactive | F15: Robert Acuff | I15: reappointed | J15: Book 38 | K15: Page 378
B16: 2016-2019 | E16: =IF(D16>=TODAY(),"Active","Inactive") -> Inactive | F16: Tom Ritchie | I16: reappointed | J16: Book 40 | K16: Page 166
... B18: 2018-2021 | E18: =IF(D18>=TODAY(),"Active","Inactive") -> Inactive | F18: Robert Acuff | I18: reappointed | J18: Book 45 | K18: Page 150
B19: -2021 | E19: =IF(D19>=TODAY(),"Active","Inactive") -> Inactive | F19: Rex Kreuder | I19: Replacing Robert Acuff | J19: Book 46 | K19: Page 305
B20: 2019-2022 | E20: =IF(D20>=TODAY(),"Active","Inactive") -> Inactive | F20: Tom Ritchie | I20: reappointed | J20: Book 47 | K20: Page 171
B21: 2020-2023 | E21: =IF(D21>=TODAY(),"Active","Inactive") -> Inactive | F21: Robert Canier | I21: reappointed | J21: Book 49 | K21: Page 118
B22: 2021-2024 | C22: 44287 | D22: 45383 | E22: =IF(D22>=TODAY(),"Active","Inactive") -> Inactive | F22: Rex Kreuder | I22: reappointed | J22: Book 51 | K22: Page 160
B23: 2022-2025 | C23: 44652 | D23: 45748 | E23: =IF(D23>=TODAY(),"Active","Inactive") -> Inactive | F23: Tom Ritchie | I23: reappointed | J23: Book 53 | K23: Page 148 | L23: 8152380092
B24: 2023-2026 | C24: 45017 | D24: 46113 | E24: =IF(D24>=TODAY(),"Active","Inactive") -> Active | F24: Robert Canier | I24: reappointed | J24: Book 56 | K24: Page 57 | L24: 8152756218
B25: 2024-2027 | C25: 45383 | D25: 46478 | E25: =IF(D25>=TODAY(),"Active","Inactive") -> Active | F25: Rex Kreuder | I25: repappointed | L25: 8152752618
B26: 2025-2028 | C26: 45748 | D26: 46844 | E26: =IF(D26>=TODAY(),"Active","Inactive") -> Active | F26: Tom Ritchie | I26: reappointed | J26: Book 63
E27: =COUNTIF(E9:E24, "Active") -> 1

Sheet April Shan Fire
A1: SHANNON FIRE TRUSTEE 3 year terms 3 members 1 Stephenson Co. April Appt | B1: Initial Term | C1: Term Start | D1: Term End | E1: Active/Inactive | G1: Name | H1: Street | I1: City | J1: Reappoint or replace | K1: Book Rec | L1: Page Rec | M1: Note
B2: 2002 - 2005 | E2: =IF(D2>=TODAY(),"Active","Inactive") -> Inactive | G2: ELLIS ATHERTON | K2: BOOK 19 | L2: PAGE 324
B3: 2003- 2006 | E3: =IF(D3>=TODAY(),"Active","Inactive") -> Inactive | G3: ELLIS ATHERTON | K3: Book 21 | L3: Page 87
B4: 2004- 2007 | E4: =IF(D4>=TODAY(),"Active","Inactive") -> Inactive | G4: Dennis Earnst | K4: Book 22 | L4: Page 334
B5: 2005 - 2008 | E5: =IF(D5>=TODAY(),"Active","Inactive") -> Inactive | G5: Alan Flack | K5: Book 24 | L5: Page 5
B6: 2006 - 2009 | E6: =IF(D6>=TODAY(),"Active","Inactive") -> Inactive | G6: ELLIS ATHERTON | J6: reappointed | K6: Book 25 | L6: Page 147
B7: 2007- 2010 | E7: =IF(D7>=TODAY(),"Active","Inactive") -> Inactive | G7: Dennis Earnst | J7: reappointed | K7: Book 27 | L7: Page 3
B8: 2008 - 2011 | E8: =IF(D8>=TODAY(),"Active","Inactive") -> Inactive | G8: Alan Flack | J8: reappointed | K8: Book 28 | L8: Page 198
B9: 2009 - 2012 | E9: =IF(D9>=TODAY(),"Active","Inactive") -> Inactive | G9: Joe Payette | K9: Book 29 | L9: Page 266
B10: 2010 - 2013 | E10: =IF(D10>=TODAY(),"Active","Inactive") -> Inactive | G10: ELLIS ATHERTON | K10: Book 30 | L10: Page 412
B11: 2011-2014 | C11: ** | E11: =IF(D11>=TODAY(),"Active","Inactive") -> Inactive | G11: Alan Flack | J11: reappointed | K11: Book 32 | L11: Page 213
B12: -2012 | E12: =IF(D12>=TODAY(),"Active","Inactive") -> Inactive | G12: Brian Boremann | J12: replacing Joe Payette | K12: Book 33 | L12: Page 185
B13: 2012-2015 | E13: =IF(D13>=TODAY(),"Active","Inactive") -> Inactive | G13: Brian Boremann | J13: reappointed | K13: Book 34 | L13: Page 177
B14: 2013-2016 | E14: =IF(D14>=TODAY(),"Active","Inactive") -> Inactive | G14: Jim Endress | K14: Book 36 | L14: Page 3
B15: 2014-2017 | E15: =IF(D15>=TODAY(),"Active","Inactive") -> Inactive | G15: Brian Boremann | J15: reappointed | K15: Book 37 | L15: Page 133
B16: 2016-2019 | E16: =IF(D16>=TODAY(),"Active","Inactive") -> Inactive | G16: Jim Endress | J16: reappointed | K16: Book 40 | L16: Page 166
B17: 2017-2020 | E17: =IF(D17>=TODAY(),"Active","Inactive") -> Inactive | G17: Brian Bormann | J17: reappointed | K17: Book 43 | L17: Page 4
B18: 2019-2022 | E18: =IF(D18>=TODAY(),"Active","Inactive") -> Inactive | G18: Jim Endress | J18: reappointed | K18: Book 47 | L18: Page 171
B19: 2020-2023 | E19: =IF(D19>=TODAY(),"Active","Inactive") -> Inactive | G19: Brian Bormann | J19: reappointed | K19: Book 49 | L19: page 118
B20: -2023 | E20: =IF(D20>=TODAY(),"Active","Inactive") -> Inactive | G20: Pat Miller | J20: replacing Brian Bormann | K20: Book 52 | L20: Page 415
B21: 2022-2025 | C21: 44652 | D21: 45383 | E21: =IF(D21>=TODAY(),"Active","Inactive") -> Inactive | G21: Jim Endress | J21: reappointed | K21: Book 53 | L21: Page 148
B22: 2023-2026 | C22: 45017 | D22: 46113 | E22: =IF(D22>=TODAY(),"Active","Inactive") -> Active | F22: ** | G22: Pat Miller | J22: reappointed | K22: Book 56 | L22: Page 57
B23: -2025 | D23: 45748 | E23: =IF(D23>=TODAY(),"Active","Inactive") -> Inactive | F23: ** | G23: Thomas Kempel | J23: Replacing Jim Endress | K23: Book 57 | L23: Page 157
B24: 2025-2028 | C24: 45748 | D24: 46844 | E24: =IF(D24>=TODAY(),"Active","Inactive") -> Active | F24: ** | G24: Thomas Kempel | J24: Reappointed | K24: Book 63
E26: =COUNTIF(E8:E23, "Active") -> 1
M28: ** Stephenson County Clerk = Adam Miller

Sheet April Thom Fire
A1: THOMSON FIRE TRUSTEES 3 year terms 3 members April Appt | B1: Initial Term | C1: Term Start | D1: Term End | E1: Active/Inactive | G1: Name | H1: Street | I1: City | J1: Reappoint or replace | K1: Book Rec | L1: Page Rec | M1: Note
B2: 2002- 2005 | E2: =IF(D2>=TODAY(),"Active","Inactive") -> Inactive | G2: KENNETH WOEHL | K2: BOOK 19 | L2: PAGE 324
B3: 2003- 2006 | E3: =IF(D3>=TODAY(),"Active","Inactive") -> Inactive | G3: Elizabeth Mendenhall | K3: Book 21 | L3: Page 116
B4: -2006 | E4: =IF(D4>=TODAY(),"Active","Inactive") -> Inactive | G4: Larry Carroll | J4: replacing Elizabeth Mendenhall | K4: Book 21 | L4: Page 143
B5: 2003- | E5: =IF(D5>=TODAY(),"Active","Inactive") -> Inactive | G5: Paul Moltman | J5: replacing Terry Shanafelt | K5: Book 21 | L5: Page 195
B6: 2004- 2007 | E6: =IF(D6>=TODAY(),"Active","Inactive") -> Inactive | G6: Paul Moltman | K6: Book 22 | L6: Page 334
B7: 2005 -2008 | E7: =IF(D7>=TODAY(),"Active","Inactive") -> Inactive | G7: Kenneth Woehl | J7: reappointed | K7: Book 24 | L7: Page 5
B8: 2006- 2009 | E8: =IF(D8>=TODAY(),"Active","Inactive") -> Inactive | G8: Larry Carroll | J8: reappointed | K8: Book 25 | L8: Page 147
B9: 2007 - 2010 | E9: =IF(D9>=TODAY(),"Active","Inactive") -> Inactive | G9: Paul Moltman | J9: reappointed | K9: Book 27 | L9: Page 3
B10: 2008- 2011 | E10: =IF(D10>=TODAY(),"Active","Inactive") -> Inactive | G10: Kenneth Woehl | J10: reappointed | K10: Book 28 | L10: Page 198
B11: 2009 -2012 | E11: =IF(D11>=TODAY(),"Active","Inactive") -> Inactive | G11: Larry Carroll | J11: reappointed | K11: Book 29 | L11: page 266
B12: 2010 - 2013 | E12: =IF(D12>=TODAY(),"Active","Inactive") -> Inactive | G12: Paul Moltman | J12: reappointed | K12: Book 30 | L12: Page 355
B13: 2011-2014 | E13: =IF(D13>=TODAY(),"Active","Inactive") -> Inactive | G13: Kenneth Woehl | J13: reappointed | K13: Book 32 | L13: Page 213
B14: 2012-2015 | E14: =IF(D14>=TODAY(),"Active","Inactive") -> Inactive | G14: Larry Carroll | J14: reappointed | K14: Book 34 | L14: Page 205
B15: 2013-2016 | E15: =IF(D15>=TODAY(),"Active","Inactive") -> Inactive | G15: Paul Moltman | J15: reappointed | K15: Book 36 | L15: Page 3
B16: 2014-2017 | E16: =IF(D16>=TODAY(),"Active","Inactive") -> Inactive | G16: Kenneth Woehl | J16: reappointed | K16: Book 37 | L16: Page 133
B17: 2015-2018 | E17: =IF(D17>=TODAY(),"Active","Inactive") -> Inactive | G17: Larry Carroll | J17: reappointed | K17: Book 38 | L17: Page 378
B18: 2016-2019 | E18: =IF(D18>=TODAY(),"Active","Inactive") -> Inactive | G18: Paul Moltman | J18: reappointed | K18: Book 40 | L18: Page 166
... B22: 2020-2023 | E22: =IF(D22>=TODAY(),"Active","Inactive") -> Inactive | G22: Bill Pilgrim | J22: Replacing Kenneth Woehl | K22: Book 49 | L22: Page 118
B23: 2021-2024 | C23: 44287 | D23: 45383 | E23: =IF(D23>=TODAY(),"Active","Inactive") -> Inactive | G23: Larry Carroll | J23: reappointed | K23: Book 51 | L23: Page 160
B24: 2022-2025 | C24: 44652 | D24: 45748 | E24: =IF(D24>=TODAY(),"Active","Inactive") -> Inactive | G24: Paul Moltman | J24: reappointed | K24: Book 53 | L24: Page 148
B25: 2023-2026 | C25: 45017 | D25: 46113 | E25: =IF(D25>=TODAY(),"Active","Inactive") -> Active | G25: Bill Pilgrim | J25: reappointed | K25: Book 56 | L25: Page 57
B26: 2024-2027 | C26: 45383 | D26: 46478 | E26: =IF(D26>=TODAY(),"Active","Inactive") -> Active | G26: Larry Carroll | J26: reappointed
B27: 2025-2028 | C27: 45748 | D27: 46844 | E27: =IF(D27>=TODAY(),"Active","Inactive") -> Active | G27: Paul Moltman | J27: reappointed | K27: Book 63
E31: =COUNTIF(E10:E25, "Active") -> 1

Sheet April Hanover Fire
A1: HANOVER FIRE TRUSTEES April Appt | B1: Initial Term | C1: Term Start | D1: Term End | E1: Active/Inactive | G1: Name | H1: Street | I1: City | J1: Reappoint or replace | K1: Book Rec | L1: Page Rec | M1: Note
B2: 2004- 2007 | D2: John Brigham | K2: Book 22 | L2: Page 334
B3: 2006- 2009 | D3: Ron Farrey | K3: Book 25 | L3: Page 41

Sheet May Port Dist
A1: UPPER MISS. INTER. PORT DISTRICT 3 year terms, 2 from Carroll, 2 from JoDaviess and 1 by Governor | B1: Initial Term | C1: Term Start | D1: Term End | E1: Active/Inactive | F1: Name | G1: Street | H1: City | I1: Reappoint or replace | J1: Book Rec | K1: Page Rec | L1: Note
B2: 2009- 2011 | E2: =IF(D2>=TODAY(),"Active","Inactive") -> Inactive | F2: William Jahnke | J2: Book 30 | K2: Page 123
B3: 2009- 2012 | E3: =IF(D3>=TODAY(),"Active","Inactive") -> Inactive | F3: Ed Olds | J3: Book 30 | K3: Page 123
B4: -2012 | E4: =IF(D4>=TODAY(),"Active","Inactive") -> Inactive | F4: Kurt Brunner | I4: Replacing Ed Olds | J4: Book 32 | K4: Page 83
B5: 2011-2014 | E5: =IF(D5>=TODAY(),"Active","Inactive") -> Inactive | F5: William Jahnke | I5: Reappointed | J5: Book 32 | K5: Page 296
B6: 2012-2015 | E6: =IF(D6>=TODAY(),"Active","Inactive") -> Inactive | F6: Kurt Brunner | I6: Reappointed | J6: Book 34 | K6: Page 330
B7: 2014-2017 | E7: =IF(D7>=TODAY(),"Active","Inactive") -> Inactive | F7: William Jahnke | I7: Reappointed | J7: Book 37 | K7: Page 320
B8: 2015-2018 | E8: =IF(D8>=TODAY(),"Active","Inactive") -> Inactive | F8: Kurt Brunner | I8: Reappointed | J8: Book 39 | K8: Page 148
B9: 2017-2020 | E9: =IF(D9>=TODAY(),"Active","Inactive") -> Inactive | F9: William Jahnke | I9: Reappointed
B10: 2018-2021 | E10: =IF(D10>=TODAY(),"Active","Inactive") -> Inactive | F10: Kurt Brunner | I10: Reappointed | J10: Book 45 | K10: Page 394
B11: 2020-2023 | E11: =IF(D11>=TODAY(),"Active","Inactive") -> Inactive | F11: William Jahnke | I11: Reappointed | J11: Book 50 | K11: Page 1
B12: 2021-2024 | C12: 44317 | D12: 45413 | E12: =IF(D12>=TODAY(),"Active","Inactive") -> Inactive | F12: Kurt Brunner | I12: Reappointed | J12: Book 52 | K12: Page 5
